0.000833333333333
0.000000000000000
0.000000000000000
-0.000833333333333
-53.837500000000013
-25.955833333333342
